BEGIN:VCALENDAR
VERSION:2.0
PRODID:-//Northreach Society - ECPv6.15.20//NONSGML v1.0//EN
CALSCALE:GREGORIAN
METHOD:PUBLISH
X-WR-CALNAME:Northreach Society
X-ORIGINAL-URL:https://www.northreach.ca
X-WR-CALDESC:Events for Northreach Society
REFRESH-INTERVAL;VALUE=DURATION:PT1H
X-Robots-Tag:noindex
X-PUBLISHED-TTL:PT1H
BEGIN:VTIMEZONE
TZID:America/Edmonton
BEGIN:DAYLIGHT
TZOFFSETFROM:-0700
TZOFFSETTO:-0600
TZNAME:MDT
DTSTART:20250309T090000
END:DAYLIGHT
BEGIN:STANDARD
TZOFFSETFROM:-0600
TZOFFSETTO:-0700
TZNAME:MST
DTSTART:20251102T080000
END:STANDARD
BEGIN:DAYLIGHT
TZOFFSETFROM:-0700
TZOFFSETTO:-0600
TZNAME:MDT
DTSTART:20260308T090000
END:DAYLIGHT
BEGIN:STANDARD
TZOFFSETFROM:-0600
TZOFFSETTO:-0700
TZNAME:MST
DTSTART:20261101T080000
END:STANDARD
BEGIN:DAYLIGHT
TZOFFSETFROM:-0700
TZOFFSETTO:-0600
TZNAME:MDT
DTSTART:20270314T090000
END:DAYLIGHT
BEGIN:STANDARD
TZOFFSETFROM:-0600
TZOFFSETTO:-0700
TZNAME:MST
DTSTART:20271107T080000
END:STANDARD
END:VTIMEZONE
BEGIN:VEVENT
DTSTART;TZID=America/Edmonton:20260129T140000
DTEND;TZID=America/Edmonton:20260129T160000
DTSTAMP:20260423T165409
CREATED:20260114T230635Z
LAST-MODIFIED:20260114T230721Z
UID:3047-1769695200-1769702400@www.northreach.ca
SUMMARY:Youth Community Service Providers Meeting!
DESCRIPTION:Community Service Providers Meeting – 2SLGBTQ+ Needs Assessment📅 January 29\, 2026 | 2–4 PM📍 Northreach Office (202-9728 101 Ave\, 2nd floor\, left off the elevator) \nCommunity Service Providers—join us for a meeting focused on the 2SLGBTQ+ Youth (13–29) Community Needs Assessment. We’ll review findings from the surveys that were shared\, discuss new survey data\, and hear your insights. Snacks and self-care kits provided. \n👉 RSVP is required so we can plan numbers.📧 amanda.g@northreach.ca | 📞 780-882-3485 \n🔗 Learn more about the needs assessment here:https://www.northreach.ca/how-we-help/2slgbtq-youth-13-29-community-needs-assessment/ \nPlease RSVP to confirm your attendance.
URL:https://www.northreach.ca/event/2slgbtq-youth-community-service-providers-meeting/
ATTACH;FMTTYPE=image/png:https://www.northreach.ca/wp-content/uploads/2026/01/2SLGBTQ-Meeting-SurveyData-Invite-Jan-2026-Service-Providers.png
END:VEVENT
END:VCALENDAR