BEGIN:VCALENDAR
VERSION:2.0
PRODID:-//Northreach Society - ECPv6.15.20//NONSGML v1.0//EN
CALSCALE:GREGORIAN
METHOD:PUBLISH
X-WR-CALNAME:Northreach Society
X-ORIGINAL-URL:https://www.northreach.ca
X-WR-CALDESC:Events for Northreach Society
REFRESH-INTERVAL;VALUE=DURATION:PT1H
X-Robots-Tag:noindex
X-PUBLISHED-TTL:PT1H
BEGIN:VTIMEZONE
TZID:America/Edmonton
BEGIN:DAYLIGHT
TZOFFSETFROM:-0700
TZOFFSETTO:-0600
TZNAME:MDT
DTSTART:20250309T090000
END:DAYLIGHT
BEGIN:STANDARD
TZOFFSETFROM:-0600
TZOFFSETTO:-0700
TZNAME:MST
DTSTART:20251102T080000
END:STANDARD
BEGIN:DAYLIGHT
TZOFFSETFROM:-0700
TZOFFSETTO:-0600
TZNAME:MDT
DTSTART:20260308T090000
END:DAYLIGHT
BEGIN:STANDARD
TZOFFSETFROM:-0600
TZOFFSETTO:-0700
TZNAME:MST
DTSTART:20261101T080000
END:STANDARD
BEGIN:DAYLIGHT
TZOFFSETFROM:-0700
TZOFFSETTO:-0600
TZNAME:MDT
DTSTART:20270314T090000
END:DAYLIGHT
BEGIN:STANDARD
TZOFFSETFROM:-0600
TZOFFSETTO:-0700
TZNAME:MST
DTSTART:20271107T080000
END:STANDARD
END:VTIMEZONE
BEGIN:VEVENT
DTSTART;VALUE=DATE:20260314
DTEND;VALUE=DATE:20260315
DTSTAMP:20260423T140846
CREATED:20260114T230033Z
LAST-MODIFIED:20260214T183636Z
UID:3042-1773446400-1773532799@www.northreach.ca
SUMMARY:3rd Annual Boot Scootin' Fundraiser
DESCRIPTION:The moment you’ve been waiting for is finally here!!Dust off your boots\, grab your crew\, and get ready to two-step the night away! \nOur 3rd Annual Boot Scootin’ Fundraiser is hitting the dance floor on March 14\, 2026\, at the Jackpot Grill & Bar—and it’s shaping up to be another sell-out night you won’t want to miss. \n🎟️ Public ticket sales open February 14🤝 Sponsorship opportunities available! Check out the attached PDF link for ways to get involved\, or contact fundraising@northreach.ca! \nSponsorship Opportunities \nMusic\, dancing\, prizes\, and a great cause—let’s make it a night to remember! 🕺💃
URL:https://www.northreach.ca/event/3rd-annual-boot-scootin-fundraiser/
ATTACH;FMTTYPE=image/png:https://www.northreach.ca/wp-content/uploads/2026/01/Copy-of-Sponsorship-Sponsorship-Opportunities.png
END:VEVENT
END:VCALENDAR