BEGIN:VCALENDAR
VERSION:2.0
PRODID:-//Northreach Society - ECPv6.15.20//NONSGML v1.0//EN
CALSCALE:GREGORIAN
METHOD:PUBLISH
X-WR-CALNAME:Northreach Society
X-ORIGINAL-URL:https://www.northreach.ca
X-WR-CALDESC:Events for Northreach Society
REFRESH-INTERVAL;VALUE=DURATION:PT1H
X-Robots-Tag:noindex
X-PUBLISHED-TTL:PT1H
BEGIN:VTIMEZONE
TZID:America/Edmonton
BEGIN:DAYLIGHT
TZOFFSETFROM:-0700
TZOFFSETTO:-0600
TZNAME:MDT
DTSTART:20250309T090000
END:DAYLIGHT
BEGIN:STANDARD
TZOFFSETFROM:-0600
TZOFFSETTO:-0700
TZNAME:MST
DTSTART:20251102T080000
END:STANDARD
BEGIN:DAYLIGHT
TZOFFSETFROM:-0700
TZOFFSETTO:-0600
TZNAME:MDT
DTSTART:20260308T090000
END:DAYLIGHT
BEGIN:STANDARD
TZOFFSETFROM:-0600
TZOFFSETTO:-0700
TZNAME:MST
DTSTART:20261101T080000
END:STANDARD
BEGIN:DAYLIGHT
TZOFFSETFROM:-0700
TZOFFSETTO:-0600
TZNAME:MDT
DTSTART:20270314T090000
END:DAYLIGHT
BEGIN:STANDARD
TZOFFSETFROM:-0600
TZOFFSETTO:-0700
TZNAME:MST
DTSTART:20271107T080000
END:STANDARD
END:VTIMEZONE
BEGIN:VEVENT
DTSTART;VALUE=DATE:20260109
DTEND;VALUE=DATE:20260210
DTSTAMP:20260423T190432
CREATED:20260109T222455Z
LAST-MODIFIED:20260109T222812Z
UID:3026-1767916800-1770681599@www.northreach.ca
SUMMARY:PlayStation 5 Raffle!
DESCRIPTION:We’re excited to launch our PlayStation 5 Raffle in support of the Grande Prairie community. \nNorthreach Society\, in collaboration with Helping Hands\, is dedicated to building a healthier\, safer\, and more inclusive community. Through this raffle\, we are raising essential funds to support our food bank and the individuals and families we assist each week who are experiencing food insecurity. \nThe prize package includes a PlayStation 5 Digital Edition (1TB)\, an additional DualSense controller\, and $150 in PlayStation Store gift cards—everything needed for an incredible gaming experience. \nBy purchasing a ticket\, you’re not only entering for a chance to win an amazing prize\, but you’re also directly supporting access to nutritious food for people in our community who need it most. Every ticket makes a meaningful difference. \nSee contest page for rules and eligibility! \n 
URL:https://www.northreach.ca/event/playstation-5-raffle/
ATTACH;FMTTYPE=image/png:https://www.northreach.ca/wp-content/uploads/2026/01/Raffle-Banner-1.png
END:VEVENT
END:VCALENDAR